Workbook

Sheet الإعدادات
A1: الإعداد | B1: القيمة
A2: اسم الشركة | B2: الشركة
A3: العملة | B3: ريال سعودي
A4: السنة المالية | B4: 2026
A5: اسم الفرع | B5: الرئيسي
A6: الفروع | B6: الرئيسي
A7: مراكز التكلفة | B7: عام

Sheet دليل الحسابات
A1: كود الحساب | B1: اسم الحساب | C1: نوع الحساب | D1: الحساب الأب
A2: 1000 | B2: الأصول | C2: أصول
A3: 1100 | B3: الصندوق | C3: أصول | D3: 1000
A4: 1110 | B4: البنك | C4: أصول | D4: 1000
A5: 1200 | B5: العملاء | C5: أصول | D5: 1000
A6: 1300 | B6: المخزون | C6: أصول | D6: 1000
A7: 2000 | B7: الالتزامات | C7: التزامات
A8: 2100 | B8: الموردون | C8: التزامات | D8: 2000
A9: 2200 | B9: مصروفات مستحقة | C9: التزامات | D9: 2000
A10: 3000 | B10: حقوق الملكية | C10: حقوق ملكية
A11: 3100 | B11: رأس المال | C11: حقوق ملكية | D11: 3000
A12: 3200 | B12: الأرباح المبقاة | C12: حقوق ملكية | D12: 3000
A13: 4000 | B13: الإيرادات | C13: إيرادات
A14: 4100 | B14: مبيعات | C14: إيرادات | D14: 4000
A15: 4200 | B15: إيرادات خدمات | C15: إيرادات | D15: 4000
A16: 5000 | B16: تكلفة المبيعات | C16: تكلفة مبيعات
A17: 5100 | B17: تكلفة البضاعة المباعة | C17: تكلفة مبيعات | D17: 5000
A18: 6000 | B18: المصروفات | C18: مصروفات
A19: 6100 | B19: رواتب وأجور | C19: مصروفات | D19: 6000
A20: 6200 | B20: إيجار | C20: مصروفات | D20: 6000
A21: 6300 | B21: كهرباء ومياه | C21: مصروفات | D21: 6000
A22: 6400 | B22: اتصالات | C22: مصروفات | D22: 6000
A23: 6500 | B23: مصروفات أخرى | C23: مصروفات | D23: 6000

Sheet اليومية
A1: رقم القيد | B1: التاريخ | C1: البيان | D1: كود الحساب | E1: اسم الحساب | F1: مدين | G1: دائن | H1: المرجع | I1: الفرع | J1: مركز التكلفة
A2: 1 | B2: 2026-01-01 | C2: إثبات رأس المال | D2: 3100 | E2: رأس المال | F2: 0 | G2: 500000 | H2: افتتاحي | I2: الرئيسي | J2: عام
A3: 1 | B3: 2026-01-01 | C3: إثبات رأس المال | D3: 1110 | E3: البنك | F3: 500000 | G3: 0 | H3: افتتاحي | I3: الرئيسي | J3: عام
A4: 2 | B4: 2026-01-01 | C4: مصروفات إيجار | D4: 6200 | E4: إيجار | F4: 66000 | I4: الرئيسي | J4: عام
A5: 2 | B5: 2026-01-01 | C5: مصروفات إيجار | D5: 1110 | E5: البنك | G5: 66000 | I5: الرئيسي | J5: عام
A6: 3 | B6: 2026-01-01 | C6: مبيعات | D6: 1200 | E6: العملاء | F6: 150000 | I6: الرئيسي | J6: عام
A7: 3 | B7: 2026-01-01 | C7: مبيعات | D7: 4100 | E7: مبيعات | G7: 150000 | I7: الرئيسي | J7: عام
A8: 4 | B8: 2026-01-01 | C8: شراء بضاعة | D8: 1300 | E8: المخزون | F8: 200000 | I8: الرئيسي | J8: عام
A9: 4 | B9: 2026-01-01 | C9: شراء بضاعة | D9: 2100 | E9: الموردون | G9: 200000 | I9: الرئيسي | J9: عام
A10: 5 | B10: 2026-01-01 | C10: سداد دفعة مورد | D10: 2100 | E10: الموردون | F10: 50000 | I10: الرئيسي | J10: عام
A11: 5 | B11: 2026-01-01 | C11: سداد دفعة مورد | D11: 1110 | E11: البنك | G11: 50000 | I11: الرئيسي | J11: عام
A12: 6 | B12: 2026-01-01 | C12: تكلفة المبيعات صرف بضاعة | D12: 5000 | E12: تكلفة المبيعات | F12: 40000 | I12: الرئيسي | J12: عام
A13: 6 | B13: 2026-01-01 | C13: تكلفة المبيعات صرف بضاعة | D13: 1300 | E13: المخزون | G13: 40000 | I13: الرئيسي | J13: عام

Sheet ميزان المراجعة
A1: كود الحساب | B1: اسم الحساب | C1: مدين | D1: دائن | E1: الرصيد | F1: نوع الحساب
A2: 1000 | B2: الأصول | C2: =SUMIF(اليومية!$D:$D,A2,اليومية!$F:$F) -> 0 | D2: =SUMIF(اليومية!$D:$D,A2,اليومية!$G:$G) -> 0 | E2: =C2-D2 -> 0 | F2: أصول
A3: 1100 | B3: الصندوق | C3: =SUMIF(اليومية!$D:$D,A3,اليومية!$F:$F) -> 0 | D3: =SUMIF(اليومية!$D:$D,A3,اليومية!$G:$G) -> 0 | E3: =C3-D3 -> 0 | F3: أصول
A4: 1110 | B4: البنك | C4: =SUMIF(اليومية!$D:$D,A4,اليومية!$F:$F) -> 500000 | D4: =SUMIF(اليومية!$D:$D,A4,اليومية!$G:$G) -> 116000 | E4: =C4-D4 -> 384000 | F4: أصول
A5: 1200 | B5: العملاء | C5: =SUMIF(اليومية!$D:$D,A5,اليومية!$F:$F) -> 150000 | D5: =SUMIF(اليومية!$D:$D,A5,اليومية!$G:$G) -> 0 | E5: =C5-D5 -> 150000 | F5: أصول
A6: 1300 | B6: المخزون | C6: =SUMIF(اليومية!$D:$D,A6,اليومية!$F:$F) -> 200000 | D6: =SUMIF(اليومية!$D:$D,A6,اليومية!$G:$G) -> 40000 | E6: =C6-D6 -> 160000 | F6: أصول
A7: 2000 | B7: الالتزامات | C7: =SUMIF(اليومية!$D:$D,A7,اليومية!$F:$F) -> 0 | D7: =SUMIF(اليومية!$D:$D,A7,اليومية!$G:$G) -> 0 | E7: =C7-D7 -> 0 | F7: التزامات
A8: 2100 | B8: الموردون | C8: =SUMIF(اليومية!$D:$D,A8,اليومية!$F:$F) -> 50000 | D8: =SUMIF(اليومية!$D:$D,A8,اليومية!$G:$G) -> 200000 | E8: =C8-D8 -> -150000 | F8: التزامات
A9: 2200 | B9: مصروفات مستحقة | C9: =SUMIF(اليومية!$D:$D,A9,اليومية!$F:$F) -> 0 | D9: =SUMIF(اليومية!$D:$D,A9,اليومية!$G:$G) -> 0 | E9: =C9-D9 -> 0 | F9: التزامات
A10: 3000 | B10: حقوق الملكية | C10: =SUMIF(اليومية!$D:$D,A10,اليومية!$F:$F) -> 0 | D10: =SUMIF(اليومية!$D:$D,A10,اليومية!$G:$G) -> 0 | E10: =C10-D10 -> 0 | F10: حقوق ملكية
A11: 3100 | B11: رأس المال | C11: =SUMIF(اليومية!$D:$D,A11,اليومية!$F:$F) -> 0 | D11: =SUMIF(اليومية!$D:$D,A11,اليومية!$G:$G) -> 500000 | E11: =C11-D11 -> -500000 | F11: حقوق ملكية
A12: 3200 | B12: الأرباح المبقاة | C12: =SUMIF(اليومية!$D:$D,A12,اليومية!$F:$F) -> 0 | D12: =SUMIF(اليومية!$D:$D,A12,اليومية!$G:$G) -> 0 | E12: =C12-D12 -> 0 | F12: حقوق ملكية
A13: 4000 | B13: الإيرادات | C13: =SUMIF(اليومية!$D:$D,A13,اليومية!$F:$F) -> 0 | D13: =SUMIF(اليومية!$D:$D,A13,اليومية!$G:$G) -> 0 | E13: =C13-D13 -> 0 | F13: إيرادات
... A23: 6500 | B23: مصروفات أخرى | C23: =SUMIF(اليومية!$D:$D,A23,اليومية!$F:$F) -> 0 | D23: =SUMIF(اليومية!$D:$D,A23,اليومية!$G:$G) -> 0 | E23: =C23-D23 -> 0 | F23: مصروفات

Sheet قائمة الدخل
A1: قائمة الدخل
A2: البند | B2: المبلغ | C2: ملاحظات
A3: الإيرادات | B3: =-SUMIFS('ميزان المراجعة'!$E:$E,'ميزان المراجعة'!$F:$F,"إيرادات") -> 150000
A4: تكلفة المبيعات | B4: =SUMIFS('ميزان المراجعة'!$E:$E,'ميزان المراجعة'!$F:$F,"تكلفة مبيعات") -> 40000
A5: مجمل الربح | B5: =B3-B4 -> 110000
A6: المصروفات | B6: =SUMIFS('ميزان المراجعة'!$E:$E,'ميزان المراجعة'!$F:$F,"مصروفات") -> 66000
A7: صافي الربح | B7: =B5-B6 -> 44000

Sheet المركز المالي
A1: قائمة المركز المالي
A2: البند | B2: المبلغ | C2: ملاحظات
A3: الأصول
A4: النقدية والبنوك | B4: =SUMIFS('ميزان المراجعة'!$E:$E,'ميزان المراجعة'!$B:$B,"الصندوق")+SUMIFS('ميزان المراجعة'!$E:$E,'ميزان المراجعة'!$B:$B,"البنك") -> 384000
A5: العملاء | B5: =SUMIFS('ميزان المراجعة'!$E:$E,'ميزان المراجعة'!$B:$B,"العملاء") -> 150000
A6: المخزون | B6: =SUMIFS('ميزان المراجعة'!$E:$E,'ميزان المراجعة'!$B:$B,"المخزون") -> 160000
A7: إجمالي الأصول | B7: =SUM(B4:B6) -> 694000
A8: الالتزامات
A9: الموردون | B9: =-SUMIFS('ميزان المراجعة'!$E:$E,'ميزان المراجعة'!$B:$B,"الموردون") -> 150000
A10: مصروفات مستحقة | B10: =-SUMIFS('ميزان المراجعة'!$E:$E,'ميزان المراجعة'!$B:$B,"مصروفات مستحقة") -> 0
A11: حقوق الملكية
A12: رأس المال | B12: =-SUMIFS('ميزان المراجعة'!$E:$E,'ميزان المراجعة'!$B:$B,"رأس المال") -> 500000
A13: الأرباح المبقاة | B13: =-SUMIFS('ميزان المراجعة'!$E:$E,'ميزان المراجعة'!$B:$B,"الأرباح المبقاة") -> 0
A14: صافي الربح | B14: ='قائمة الدخل'!B7 -> 44000
A15: إجمالي الالتزامات وحقوق الملكية | B15: =SUM(B9:B12) -> 650000

Sheet لوحة التحكم
A1: لوحة التحكم المحاسبية
A2: المؤشر | B2: القيمة | D2: حالة النظام
A3: إجمالي الإيرادات | B3: =-SUMIFS('ميزان المراجعة'!$E:$E,'ميزان المراجعة'!$F:$F,"إيرادات") -> 150000 | D3: توازن ميزان المراجعة | E3: =IF(ABS(B11)<0.01,"متوازن","غير متوازن") -> متوازن
A4: مجمل الربح | B4: =B3-B5 -> 110000 | D4: حالة البيانات | E4: =IF(COUNTA(اليومية!$A:$A)>1,"توجد قيود","لا توجد قيود") -> توجد قيود
A5: تكلفة المبيعات | B5: =SUMIFS('ميزان المراجعة'!$E:$E,'ميزان المراجعة'!$F:$F,"تكلفة مبيعات") -> 40000
A6: إجمالي المصروفات | B6: =SUMIFS('ميزان المراجعة'!$E:$E,'ميزان المراجعة'!$F:$F,"مصروفات") -> 66000
A7: صافي الربح | B7: =B4-B6 -> 44000
A8: هامش صافي الربح % | B8: =IFERROR(B7/B3,0) -> 0.29333333
A9: إجمالي المدين | B9: =SUM('ميزان المراجعة'!$C:$C) -> 1006000
A10: إجمالي الدائن | B10: =SUM('ميزان المراجعة'!$D:$D) -> 1006000
A11: فرق ميزان المراجعة | B11: =B9-B10 -> 0
